BEGIN:VCALENDAR
VERSION:2.0
PRODID:-//Virginia Bleeding Disorders Foundation - ECPv6.15.20//NONSGML v1.0//EN
CALSCALE:GREGORIAN
METHOD:PUBLISH
X-WR-CALNAME:Virginia Bleeding Disorders Foundation
X-ORIGINAL-URL:https://vahemophilia.org
X-WR-CALDESC:Events for Virginia Bleeding Disorders Foundation
REFRESH-INTERVAL;VALUE=DURATION:PT1H
X-Robots-Tag:noindex
X-PUBLISHED-TTL:PT1H
BEGIN:VTIMEZONE
TZID:UTC
BEGIN:STANDARD
TZOFFSETFROM:+0000
TZOFFSETTO:+0000
TZNAME:UTC
DTSTART:20210101T000000
END:STANDARD
END:VTIMEZONE
BEGIN:VEVENT
DTSTART;TZID=UTC:20221109T160000
DTEND;TZID=UTC:20221109T180000
DTSTAMP:20260425T065615
CREATED:20220901T143421Z
LAST-MODIFIED:20221104T201150Z
UID:6118-1668009600-1668016800@vahemophilia.org
SUMMARY:VIRTUAL - VHF/HACA Advocacy Stakeholder and Education Meeting
DESCRIPTION:RSVP HERE\nJoin constituents\, advocacy committee members\, and community stakeholders from throughout Virginia for an education meeting that will cover a wide range of advocacy topics relevant to the bleeding disorders community! \nMEETING AGENDA \nState Update AND What Can We Expect in 2023 General Assembly Becky Bowers-Lanier\, VHF/HACA Advocacy Consultant and Heidi Dix\, Senior Vice President of Policy\, Virginia Association of Health Plans \nVirginia Bleeding Disorder Program (VBDP) Update Lauren Dunn\, Health Insurance Consultant\, VA Bleeding Disorders Program \nFederal Update Miriam Goldstein\, J.D\, Director of Policy at Hemophilia Federation of America (HFA)\, Nathan Schaefer\, MSW\, VP of Public Policy at National Hemophilia Foundation (NHF)\, and Matt Delaney\, Government Relations Specialist at National Hemophilia Foundation (NHF) \n» RSVP HERE Once you RSVP you will receive the zoom link separately via email from heather@vahemophilia.org.  \n\nThank you to our sponsors: Genentech\, National Hemophilia Foundation (NHF)\, Pfizer\, PhrMA\, Takeda and We Work For Health \n\nAs we gather virtually to discuss\, share and learn\, we ask that all Virginia Hemophilia Foundation (VHF) virtual program participants be thoughtful in their interactions and follow video meeting etiquette and rules of engagement. Disruptions to a session may lead to the removal and/or disabling of the participant’s video and microphone for part of or for the entire session. Thank you for helping VHF ensure a safe\, productive\, and welcoming environment for all meeting participants and staff. Go here to read video meeting etiquette and rules of engagement.
URL:https://vahemophilia.org/event-program/vhf-haca-virtual-advocacy-stakeholder-and-education-meeting-3/
LOCATION:Zoom
CATEGORIES:advocacy,community,education,virtual
ORGANIZER;CN="Kelly Waters%2C VHF Executive Director":MAILTO:info@vahemophilia.org
END:VEVENT
END:VCALENDAR